BEGIN:VCALENDAR
VERSION:2.0
PRODID:-//Riverbend Head Start - ECPv6.15.20//NONSGML v1.0//EN
CALSCALE:GREGORIAN
METHOD:PUBLISH
X-ORIGINAL-URL:https://riverbendfamilies.org
X-WR-CALDESC:Events for Riverbend Head Start
REFRESH-INTERVAL;VALUE=DURATION:PT1H
X-Robots-Tag:noindex
X-PUBLISHED-TTL:PT1H
BEGIN:VTIMEZONE
TZID:UTC
BEGIN:STANDARD
TZOFFSETFROM:+0000
TZOFFSETTO:+0000
TZNAME:UTC
DTSTART:20210101T000000
END:STANDARD
END:VTIMEZONE
BEGIN:VEVENT
DTSTART;TZID=UTC:20220406T153000
DTEND;TZID=UTC:20220406T163000
DTSTAMP:20260423T080000
CREATED:20220406T153712Z
LAST-MODIFIED:20220406T153712Z
UID:2004-1649259000-1649262600@riverbendfamilies.org
SUMMARY:Save money with planning and budgeting
DESCRIPTION:Join us for Financial Literacy with GCS Credit Union. \nYou will learn how to save money with a savings plan\, emergency funds and overall budgeting to obtain and maintain financial freedom. \nClick the link to join the Zoom Meeting: \nhttps://us02web.zoom.us/j/82626442265?pwd=QW1ZZHA2Y2c3b3VacUx2SVpLRjhOZz09 \nMeeting ID: 826 2644 2265 \nPasscode: 220660
URL:https://riverbendfamilies.org/event-detail/save-money-with-planning-and-budgeting/
LOCATION:Zoom\, IL\, United States
END:VEVENT
END:VCALENDAR